BEGIN:VCALENDAR
VERSION:2.0
PRODID:-//Hone Consulting - ECPv6.15.20//NONSGML v1.0//EN
CALSCALE:GREGORIAN
METHOD:PUBLISH
X-WR-CALNAME:Hone Consulting
X-ORIGINAL-URL:https://honeconsulting.com
X-WR-CALDESC:Events for Hone Consulting
REFRESH-INTERVAL;VALUE=DURATION:PT1H
X-Robots-Tag:noindex
X-PUBLISHED-TTL:PT1H
BEGIN:VTIMEZONE
TZID:America/Vancouver
BEGIN:DAYLIGHT
TZOFFSETFROM:-0800
TZOFFSETTO:-0700
TZNAME:PDT
DTSTART:20230312T100000
END:DAYLIGHT
BEGIN:STANDARD
TZOFFSETFROM:-0700
TZOFFSETTO:-0800
TZNAME:PST
DTSTART:20231105T090000
END:STANDARD
BEGIN:DAYLIGHT
TZOFFSETFROM:-0800
TZOFFSETTO:-0700
TZNAME:PDT
DTSTART:20240310T100000
END:DAYLIGHT
BEGIN:STANDARD
TZOFFSETFROM:-0700
TZOFFSETTO:-0800
TZNAME:PST
DTSTART:20241103T090000
END:STANDARD
BEGIN:DAYLIGHT
TZOFFSETFROM:-0800
TZOFFSETTO:-0700
TZNAME:PDT
DTSTART:20250309T100000
END:DAYLIGHT
BEGIN:STANDARD
TZOFFSETFROM:-0700
TZOFFSETTO:-0800
TZNAME:PST
DTSTART:20251102T090000
END:STANDARD
END:VTIMEZONE
BEGIN:VEVENT
DTSTART;TZID=America/Vancouver:20240412T090000
DTEND;TZID=America/Vancouver:20240412T103000
DTSTAMP:20260413T233115
CREATED:20231217T213248Z
LAST-MODIFIED:20240203T211136Z
UID:10000003-1712912400-1712917800@honeconsulting.com
SUMMARY:Free Workshop: Building Resiliency and Empowerment
DESCRIPTION:In this session\, participants will learn what it takes to be more resilient and influence shifts in both themselves and those around them to move beyond drama and relate in empowering ways. \nLearning Objectives:\nBy the end of this session\, participants will be able to: \n\nGrasp the first vital question – Where are you putting your focus?\nExplore the second vital question – How are you relating to others\, your experience and yourself?\nWork through the third vital question – What actions are you taking?
URL:https://honeconsulting.com/event/building-resiliency-and-empowerment/
ATTACH;FMTTYPE=image/jpeg:https://honeconsulting.com/wp-content/uploads/Leadership-and-Team-Success.jpg
ORGANIZER;CN="Hone Consulting":MAILTO:clientcare@honeconsulting.com
LOCATION:https://honeconsulting.com/event/building-resiliency-and-empowerment/
END:VEVENT
BEGIN:VEVENT
DTSTART;TZID=America/Vancouver:20240315T090000
DTEND;TZID=America/Vancouver:20240315T103000
DTSTAMP:20260413T233115
CREATED:20231217T212454Z
LAST-MODIFIED:20240305T213313Z
UID:10000002-1710493200-1710498600@honeconsulting.com
SUMMARY:Free Workshop: Psychological Health and Safety in the Workplace
DESCRIPTION:In this session\, participants will learn about responsibilities for psychological health and safety in the workplace\, which are being redefined as the health\, legal and business case continues to build for a duty to protect\, promote and accommodate not just the physical safety\, but the mental health and safety needs in the workplace. \nLearning Objectives:\nBy the end of this session\, participants will be able to: \n\nIdentify the benefits and key definitions.\nWork through the main points of the Canadian National Standard.\nSummarize the 13 Psychosocial Factors.\n\nAdditional resources: Psychological Health and Safety in the Workplace
URL:https://honeconsulting.com/event/psychological-health-and-safety-in-the-workplace/
LOCATION:Online
ATTACH;FMTTYPE=image/jpeg:https://honeconsulting.com/wp-content/uploads/05-mental-health-2.jpg
ORGANIZER;CN="Hone Consulting":MAILTO:clientcare@honeconsulting.com
END:VEVENT
BEGIN:VEVENT
DTSTART;TZID=America/Vancouver:20240202T090000
DTEND;TZID=America/Vancouver:20240202T103000
DTSTAMP:20260413T233115
CREATED:20231020T000835Z
LAST-MODIFIED:20240206T232206Z
UID:10000001-1706864400-1706869800@honeconsulting.com
SUMMARY:Free Workshop: Mental Health Leadership at Work
DESCRIPTION:During this 90-minute workshop\, leaders develop their awareness and understanding of mental health and mental illness\, as well as gain knowledge and skills for supporting and addressing mental health and mental illness in the workplace. \nLearning Objectives:\nBy the end of this session that involves group discussions and activities\, leaders will be able to: \n\nExplain the benefits and importance of employee well-being in the workplace.\nAccount for possible indicators of mental health and mental illness.\n\nEngage in a conversation and support a team member with a potential mental health challenge or illness. Identify factors and reflect on goals to create a positive\, productive and supportive work environment.
URL:https://honeconsulting.com/event/mental-health-leadership-at-work/
LOCATION:Online
ATTACH;FMTTYPE=image/jpeg:https://honeconsulting.com/wp-content/uploads/Mental-Health.jpg
ORGANIZER;CN="Hone Consulting":MAILTO:clientcare@honeconsulting.com
END:VEVENT
END:VCALENDAR